BEGIN:VCALENDAR
VERSION:2.0
PRODID:-//wp-events-plugin.com//7.2.3.1//EN
TZID:Europe/Berlin
X-WR-TIMEZONE:Europe/Berlin
BEGIN:VEVENT
UID:6@munichdawah.com
DTSTART;TZID=Europe/Berlin:20240606T210000
DTEND;TZID=Europe/Berlin:20240616T210000
DTSTAMP:20240606T090421Z
URL:https://munichdawah.com/events/dhul-hijjah-2024/
SUMMARY:Dhul Hijjah 2024
DESCRIPTION:#জিলহজ্জ মাসের প্রথম দশ 
 দিন এর গুরুত্বপূর্ণ আমলসমূ
 হঃ\n\n(১) জিলহজের প্রথম ৯ দিন রো
 জা রাখা\; বিশেষত আরাফার দিনে
 র রোজা রাখা। রাসূল (ﷺ) বলেন\, ❝
 আরাফার দিনের রোজার বিষয়ে আ
 মি আল্লাহর নিকট আশা করি যে\, ত
 িনি এর দ্বারা বিগত বছর ও আগা
 মী এ\n\n&nbsp\;\n\nক বছরের গুনাহ মাফ ক
 রে দেবেন।❞ [ সহীহ মুসলিম : ১১৬
 ২ ]\n\n(২) সামর্থ্যবান হলে কুরবা
 নি করা।\n\n&nbsp\;\n\n(৩) এই দশ দিন নখ ও
  চুল না কাটা। রাসূল (ﷺ) বলেন\, ❝
 তোমাদের কেউ জিলহজ্জ মাসের চ
 াঁদ দেখলে এবং কুরবানি করার ই
 চ্ছা করলে\, সে যেন তার চুল ও ন
 খ কাটা থেকে বিরত থাকে।❞ [ সহী
 হ মুসলিম : ১৯৭৭ ]\n\n(৪) চার ধরনের
  যিকিরে লেগে থাকা। রাসুল (ﷺ) ব
 লেন\, ❝আল্লাহ তা‘আলার নিকট জ
 িলহজ্জের দশ দিনের আমলের চেয়
 ে মহান এবং প্রিয় অন্য কোনো দ
 িনের আমল নেই। সুতরাং\, তোমরা 
 সেই দিনগুলোতে অধিক পরিমাণে 
 তাসবিহ ( سُبْحَانَ اللّٰهِ )\, সুবহা
 নাল্লাহ তাহমিদ ( ٱلْحَمْدُ لِلَّٰ
 هِ )\, আলহামদুলিল্লাহ তাহলিল ( 
 لَا إِلٰهَ إِلَّا اللّٰهُ ) লা ইলাহা 
 ইল্লাল্লাহ ও তাকবির ( اللّٰهُ أ
 َكْبَر ) আল্লাহ আকবার \,পড়ো।❞ [ ম
 ুসনাদে আহমাদ : ৫৪৪৬\; হাদিসটি
 র সনদ সহিহ ]\n\n(৫) বেশি বেশি তাক
 বির তথা আল্লাহর বড়ত্ব ঘোষণা 
 করা। সাধারণভাবে এই দশ দিন সং
 ক্ষেপে اللّٰهُ أَكْبَر বেশি বেশি
  পড়ুন। সাথে\, নিচের বাক্যগুল
 োও সাধ্যানুসারে পড়ুন— اَللّٰه
 ُ أَكْبَرْ اَللّٰهُ أَكْبَرْ لَا إِلٰهَ 
 إِلَّا اللّٰهُ وَاللّٰهُ أَكْبَرْ اَللّ
 ٰهُ أَكْبَرْ وَلِلّٰهِ الْحَمْد অর্থ
 ঃ আল্লাহ সর্বশ্রেষ্ঠ\; আল্লা
 হ সর্বশ্রেষ্ঠ\; আল্লাহ ছাড়া 
 কোনও উপাস্য নেই। আল্লাহই সর
 ্বশ্রেষ্ঠ\; আল্লাহই সর্বশ্র
 েষ্ঠ\; আর আল্লাহর জন্যই সকল প
 ্রশংসা। এটি ইবনু মাস‘উদ (রা.) 
 ও অন্যান্য পূর্বসূরিদের থে
 কে প্রমাণিত। [ দারাকুতনি\, আস-
 সুনান: ১৭৫৬\; আলবানি\, ইরওয়াউল
  গালিল: ৬৫৪\; সনদ সহিহ ] তবে\, আর
 াফার দিন অর্থাৎ জিলহজ্জের ৯ 
 তারিখ ফজর থেকে শুরু করে ১৩ ত
 ারিখ আসর পর্যন্ত প্রত্যেক ফ
 রজ নামাজের পর একাকী বা জামাত
 ে নামাজ আদায়কারী\, নারী অথবা 
 পুরুষ— প্রত্যেকের জন্য একব
 ার তাকবিরে তাশরিক (উপরে বর্ণ
 িত তাকবিরটি) পাঠ করা ওয়াজিব।
  পুরুষরা উচ্চ আওয়াজে বলবে\, আ
 র নারীরা নিচু আওয়াজে। [ ইবনু 
 তাইমিয়্যাহ\, মাজমু‘উ ফাতাওয়
 া: ২৪/২২০\; ইবনুল কায়্যিম\, যাদ
 ুল মা‘আদ: ২/৩৬০\; ইবনু আবিদিন\, 
 রাদ্দুল মুহতার: ৩/৬১ ]\n\n(৬) চার
 টি সম্মানিত মাসের একটি হলো জ
 িলহজ্জ\; তাই এই মাসের সম্মান
 ে যথাসম্ভব সকল গুনাহ থেকে বে
 ঁচে থাকা। আল্লাহ তা‘আলা বলে
 ন\, ❝নিশ্চয়ই আল্লাহর নিকট সং
 রক্ষিত ফলকে (বছরে) মাসের সংখ
 ্যা বারোটি—আসমানসমূহ ও পৃথ
 িবী সৃষ্টির দিন থেকে। তার মধ
 ্যে চারটি (মাস) সম্মানিত। এট
 িই সুপ্রতিষ্ঠিত বিধান\; সুতর
 াং এর মধ্যে তোমরা (গুনাহ করা
 র মাধ্যমে) নিজেদের প্রতি অত্
 যাচার করো না।❞ [ সুরা তাওবাহ\,
  আয়াত: ৩৬ ]\n\n(৭) এই দিনগুলো বছরে
 র সবচেয়ে মর্যাদাপূর্ণ\, তাই 
 অধিক পরিমাণে নেক আমল করা। রা
 সূল (ﷺ) বলেছেন\, ❝আল্লাহ তা‘আল
 ার নিকট জিলহজ্জের (প্রথম) দশ 
 দিনের আমলের চেয়ে অধিক মর্যা
 দাপূর্ণ ও প্রিয় অন্য কোনো আম
 ল নেই।❞ সাহাবিগণ বললেন\, ‘ইয়
 া রাসুলাল্লাহ! আল্লাহ রাস্ত
 ায় জিহাদও কি এর চেয়ে উত্তম ন
 য়?’ তিনি বললেন\, ‘‘না। আল্লাহ
 র রাস্তায় জিহাদও নয়। তবে যে 
 ব্যক্তি তার জান ও মাল নিয়ে (জ
 িহাদে) ঝাঁপিয়ে পড়লো এবং এর ক
 োনো কিছু নিয়েই আর ফিরে এলো ন
 া (অর্থাৎ\, শহীদ হয়ে গেলো\, তার 
 কথা ভিন্ন)।❞ [ সহীহ বুখারি : ৯
 ৬৯\; মুসনাদে আহমাদ : ৬৫০৫\; সুন
 ান আবু দাউদ : ২৪৩৮] এই দশদিনের
  ফরজ ইবাদত অন্যান্য মাসের ফর
 জ ইবাদতের তুলনায় অধিক মর্যা
 দার। এই দশদিনের নফল ইবাদত অন
 ্যান্য মাসের নফল ইবাদতের চে
 য়ে শ্রেষ্ঠ। [ ইবনু রজব\, ফাতহু
 ল বারি: ৯/১৫ ]\n\n&#x1f932\;\n\n: মহান আল্
 লাহ সুবহানাহু ওয়াতাআ'লা আমা
 দের সকলের ইলমে-আমলে বারাকাহ 
 দিন। দুনিয়া ও আখিরাতে কল্যা
 ন দান করুন। আল্লাহ আমাদেরকে 
 প্রিয় বান্দা হিসেবে প্রশা
 ন্ত আত্মা নিয়ে তাঁর কাছে ফে
 রৎ যাওয়ার তৌফিক দান করুন। (
 আমীন)
CATEGORIES:Islamic Events
END:VEVENT
BEGIN:VEVENT
UID:3@munichdawah.com
DTSTART;VALUE=DATE:20240609
DTEND;VALUE=DATE:20240629
DTSTAMP:20240604T063041Z
URL:https://munichdawah.com/events/intl-hajj-program-offers/
SUMMARY:Hajj Program 2024
DESCRIPTION:Assalamu Alaikum. This year\, MDI is proud to announce that sev
 eral of our esteemed members will be embarking on the sacred journey of Ha
 jj. Hajj is one of the Five Pillars of Islam and represents a significant 
 spiritual milestone for Muslims worldwide.\n\n 	2 brothers are flying from
  Dhaka directly\n 	4 brothers are flying from Düsseldorf\n\nOur members h
 ave been diligently preparing for this journey through spiritual reflectio
 n\, physical readiness\, and logistical planning.\n\nHajj is a profound ac
 t of faith and devotion\, symbolizing unity\, equality\, and submission to
  Allah. For our members\, it represents not only a personal spiritual mile
 stone but also an opportunity to bring back a renewed sense of purpose and
  community spirit.\n\nWe eagerly await their return and the insights and e
 xperiences they will share with us. Their journey is not just a personal m
 ilestone but a moment of pride and inspiration for our entire club. May th
 eir Hajj be blessed and may they return with hearts full of peace and enli
 ghtenment.
ATTACH;FMTTYPE=image/jpeg:https://i0.wp.com/munichdawah.com/wp-content/upl
 oads/2023/04/Islamic-books.jpg?fit=640%2C360&ssl=1
CATEGORIES:Islamic Events
END:VEVENT
BEGIN:VEVENT
UID:2@munichdawah.com
DTSTART;TZID=Europe/Berlin:20240622T110000
DTEND;TZID=Europe/Berlin:20240622T170000
DTSTAMP:20240604T061524Z
URL:https://munichdawah.com/events/eid-ul-adha-get-together-2024/
SUMMARY:Eid-Ul-Adha Get together 2024
DESCRIPTION:[caption id="attachment_2250" align="alignright" width="724"] E
 ID[/caption]\n\nAssalamu Alaikum!\n\nWe are delighted to invite you and yo
 ur family to our upcoming Eid ul Adha 2024 celebration\, a joyous occasion
  to come together as a community and commemorate the spirit of sacrifice a
 nd sharing.To ensure we make adequate arrangements and maintain a safe env
 ironment\, we kindly request you to register for the event. You can regist
 er by clicking the link below:\n\nhttps://tinyurl.com/MDI-eid-registration
 \n\nWe look forward to celebrating Eid ul Adha with you and making it a me
 morable occasion for everyone.\n\nIf you have any questions or need furthe
 r information\, please feel free to contact us. Please also connect us thr
 ough our social platforms for latest updates.\n\n
CATEGORIES:Islamic Events
LOCATION:Suhag Indisches Restaurant\, St.-Martin-Straße 58-68\, München\,
  Munich\, 81541\, Bayern\, Germany
X-APPLE-STRUCTURED-LOCATION;VALUE=URI;X-ADDRESS=St.-Martin-Straße 58-68\, 
 München\, Munich\, 81541\, Bayern\, Germany;X-APPLE-RADIUS=100;X-TITLE=Su
 hag Indisches Restaurant:geo:0,0
END:VEVENT
BEGIN:VEVENT
UID:5@munichdawah.com
DTSTART;TZID=Europe/Berlin:20240622T110000
DTEND;TZID=Europe/Berlin:20240622T170000
DTSTAMP:20240604T084839Z
URL:https://munichdawah.com/events/eid-ul-adha-get-together-2024-2/
SUMMARY:Eid Ul Adha Get-Together 2024
DESCRIPTION:[caption id="attachment_2250" align="alignright" width="724"] E
 ID[/caption]\n\nDear Brothers &amp\; Sisters\,\n\nAssalamu Alaikum! We are
  delighted to invite you and your family to our upcoming Eid ul Adha celeb
 ration\, a joyous occasion to come together as a community and commemorate
  the spirit of sacrifice and sharing. To ensure we make adequate arrangeme
 nts and maintain a safe environment\, we kindly request you to register fo
 r the event.\n\nYou can register by clicking the link below: \n\nhttps://t
 inyurl.com/MDI-eid-registration \n\nWe look forward to celebrating Eid ul 
 Adha with you and making it a memorable occasion for everyone. If you have
  any questions or need further information\, please feel free to contact u
 s. Please also connect us through our social platforms for latest updates.
CATEGORIES:Islamic Events
END:VEVENT
BEGIN:VEVENT
UID:11@munichdawah.com
DTSTART;TZID=Europe/Berlin:20250112T170000
DTEND;TZID=Europe/Berlin:20250112T180000
DTSTAMP:20250106T081453Z
URL:https://munichdawah.com/events/weekly-discussion-on-sunday-2025-01-12/
SUMMARY:Weekly discussion - On Sunday
DESCRIPTION:Weekly discussion - On Sunday
CATEGORIES:Islamic Events
END:VEVENT
BEGIN:VEVENT
UID:12@munichdawah.com
DTSTART;TZID=Europe/Berlin:20250119T170000
DTEND;TZID=Europe/Berlin:20250119T180000
DTSTAMP:20250106T081453Z
URL:https://munichdawah.com/events/weekly-discussion-on-sunday-2025-01-19/
SUMMARY:Weekly discussion - On Sunday
DESCRIPTION:Weekly discussion - On Sunday
CATEGORIES:Islamic Events
END:VEVENT
BEGIN:VEVENT
UID:13@munichdawah.com
DTSTART;TZID=Europe/Berlin:20250126T170000
DTEND;TZID=Europe/Berlin:20250126T180000
DTSTAMP:20250106T081453Z
URL:https://munichdawah.com/events/weekly-discussion-on-sunday-2025-01-26/
SUMMARY:Weekly discussion - On Sunday
DESCRIPTION:Weekly discussion - On Sunday
CATEGORIES:Islamic Events
END:VEVENT
BEGIN:VEVENT
UID:8@munichdawah.com
DTSTART;TZID=Europe/Berlin:20250201T070000
DTEND;TZID=Europe/Berlin:20250201T100000
DTSTAMP:20250104T174539Z
URL:https://munichdawah.com/events/monthly-meeting-on-feb2025/
SUMMARY:Monthly meeting on Feb'2025
DESCRIPTION:Please join in our monthly meeting at MDI center
CATEGORIES:Islamic Events
END:VEVENT
BEGIN:VEVENT
UID:7@munichdawah.com
DTSTART;TZID=Europe/Berlin:20250202T140000
DTEND;TZID=Europe/Berlin:20250202T170000
DTSTAMP:20250104T174227Z
URL:https://munichdawah.com/events/mdi-center-inauguration/
SUMMARY:MDI center inauguration
DESCRIPTION:We are pleased to announce that ...
CATEGORIES:Islamic Events
END:VEVENT
BEGIN:VEVENT
UID:14@munichdawah.com
DTSTART;TZID=Europe/Berlin:20250202T170000
DTEND;TZID=Europe/Berlin:20250202T180000
DTSTAMP:20250106T081453Z
URL:https://munichdawah.com/events/weekly-discussion-on-sunday-2025-02-02/
SUMMARY:Weekly discussion - On Sunday
DESCRIPTION:Weekly discussion - On Sunday
CATEGORIES:Islamic Events
END:VEVENT
BEGIN:VEVENT
UID:15@munichdawah.com
DTSTART;TZID=Europe/Berlin:20250209T170000
DTEND;TZID=Europe/Berlin:20250209T180000
DTSTAMP:20250106T081453Z
URL:https://munichdawah.com/events/weekly-discussion-on-sunday-2025-02-09/
SUMMARY:Weekly discussion - On Sunday
DESCRIPTION:Weekly discussion - On Sunday
CATEGORIES:Islamic Events
END:VEVENT
BEGIN:VEVENT
UID:16@munichdawah.com
DTSTART;TZID=Europe/Berlin:20250216T170000
DTEND;TZID=Europe/Berlin:20250216T180000
DTSTAMP:20250106T081453Z
URL:https://munichdawah.com/events/weekly-discussion-on-sunday-2025-02-16/
SUMMARY:Weekly discussion - On Sunday
DESCRIPTION:Weekly discussion - On Sunday
CATEGORIES:Islamic Events
END:VEVENT
BEGIN:VEVENT
UID:17@munichdawah.com
DTSTART;TZID=Europe/Berlin:20250223T170000
DTEND;TZID=Europe/Berlin:20250223T180000
DTSTAMP:20250106T081453Z
URL:https://munichdawah.com/events/weekly-discussion-on-sunday-2025-02-23/
SUMMARY:Weekly discussion - On Sunday
DESCRIPTION:Weekly discussion - On Sunday
CATEGORIES:Islamic Events
END:VEVENT
BEGIN:VEVENT
UID:18@munichdawah.com
DTSTART;TZID=Europe/Berlin:20250302T170000
DTEND;TZID=Europe/Berlin:20250302T180000
DTSTAMP:20250106T081453Z
URL:https://munichdawah.com/events/weekly-discussion-on-sunday-2025-03-02/
SUMMARY:Weekly discussion - On Sunday
DESCRIPTION:Weekly discussion - On Sunday
CATEGORIES:Islamic Events
END:VEVENT
BEGIN:VEVENT
UID:19@munichdawah.com
DTSTART;TZID=Europe/Berlin:20250309T170000
DTEND;TZID=Europe/Berlin:20250309T180000
DTSTAMP:20250106T081453Z
URL:https://munichdawah.com/events/weekly-discussion-on-sunday-2025-03-09/
SUMMARY:Weekly discussion - On Sunday
DESCRIPTION:Weekly discussion - On Sunday
CATEGORIES:Islamic Events
END:VEVENT
BEGIN:VEVENT
UID:20@munichdawah.com
DTSTART;TZID=Europe/Berlin:20250316T170000
DTEND;TZID=Europe/Berlin:20250316T180000
DTSTAMP:20250106T081453Z
URL:https://munichdawah.com/events/weekly-discussion-on-sunday-2025-03-16/
SUMMARY:Weekly discussion - On Sunday
DESCRIPTION:Weekly discussion - On Sunday
CATEGORIES:Islamic Events
END:VEVENT
BEGIN:VEVENT
UID:21@munichdawah.com
DTSTART;TZID=Europe/Berlin:20250323T170000
DTEND;TZID=Europe/Berlin:20250323T180000
DTSTAMP:20250106T081453Z
URL:https://munichdawah.com/events/weekly-discussion-on-sunday-2025-03-23/
SUMMARY:Weekly discussion - On Sunday
DESCRIPTION:Weekly discussion - On Sunday
CATEGORIES:Islamic Events
END:VEVENT
BEGIN:VEVENT
UID:22@munichdawah.com
DTSTART;TZID=Europe/Berlin:20250330T170000
DTEND;TZID=Europe/Berlin:20250330T180000
DTSTAMP:20250106T081453Z
URL:https://munichdawah.com/events/weekly-discussion-on-sunday-2025-03-30/
SUMMARY:Weekly discussion - On Sunday
DESCRIPTION:Weekly discussion - On Sunday
CATEGORIES:Islamic Events
END:VEVENT
BEGIN:VEVENT
UID:23@munichdawah.com
DTSTART;TZID=Europe/Berlin:20250406T170000
DTEND;TZID=Europe/Berlin:20250406T180000
DTSTAMP:20250106T081453Z
URL:https://munichdawah.com/events/weekly-discussion-on-sunday-2025-04-06/
SUMMARY:Weekly discussion - On Sunday
DESCRIPTION:Weekly discussion - On Sunday
CATEGORIES:Islamic Events
END:VEVENT
BEGIN:VEVENT
UID:24@munichdawah.com
DTSTART;TZID=Europe/Berlin:20250413T170000
DTEND;TZID=Europe/Berlin:20250413T180000
DTSTAMP:20250106T081453Z
URL:https://munichdawah.com/events/weekly-discussion-on-sunday-2025-04-13/
SUMMARY:Weekly discussion - On Sunday
DESCRIPTION:Weekly discussion - On Sunday
CATEGORIES:Islamic Events
END:VEVENT
BEGIN:VEVENT
UID:25@munichdawah.com
DTSTART;TZID=Europe/Berlin:20250420T170000
DTEND;TZID=Europe/Berlin:20250420T180000
DTSTAMP:20250106T081453Z
URL:https://munichdawah.com/events/weekly-discussion-on-sunday-2025-04-20/
SUMMARY:Weekly discussion - On Sunday
DESCRIPTION:Weekly discussion - On Sunday
CATEGORIES:Islamic Events
END:VEVENT
BEGIN:VEVENT
UID:26@munichdawah.com
DTSTART;TZID=Europe/Berlin:20250427T170000
DTEND;TZID=Europe/Berlin:20250427T180000
DTSTAMP:20250106T081453Z
URL:https://munichdawah.com/events/weekly-discussion-on-sunday-2025-04-27/
SUMMARY:Weekly discussion - On Sunday
DESCRIPTION:Weekly discussion - On Sunday
CATEGORIES:Islamic Events
END:VEVENT
BEGIN:VTIMEZONE
TZID:Europe/Berlin
X-LIC-LOCATION:Europe/Berlin
BEGIN:DAYLIGHT
DTSTART:20240331T030000
TZOFFSETFROM:+0100
TZOFFSETTO:+0200
TZNAME:CEST
END:DAYLIGHT
BEGIN:STANDARD
DTSTART:20241027T020000
TZOFFSETFROM:+0200
TZOFFSETTO:+0100
TZNAME:CET
END:STANDARD
BEGIN:DAYLIGHT
DTSTART:20250330T030000
TZOFFSETFROM:+0100
TZOFFSETTO:+0200
TZNAME:CEST
END:DAYLIGHT
END:VTIMEZONE
END:VCALENDAR