BEGIN:VCALENDAR
VERSION:2.0
PRODID:-//Munich Dawah Initiative - ECPv6.15.20//NONSGML v1.0//EN
CALSCALE:GREGORIAN
METHOD:PUBLISH
X-ORIGINAL-URL:https://munichdawah.com
X-WR-CALDESC:Events for Munich Dawah Initiative
REFRESH-INTERVAL;VALUE=DURATION:PT1H
X-Robots-Tag:noindex
X-PUBLISHED-TTL:PT1H
BEGIN:VTIMEZONE
TZID:Europe/Berlin
BEGIN:DAYLIGHT
TZOFFSETFROM:+0100
TZOFFSETTO:+0200
TZNAME:CEST
DTSTART:20250330T010000
END:DAYLIGHT
BEGIN:STANDARD
TZOFFSETFROM:+0200
TZOFFSETTO:+0100
TZNAME:CET
DTSTART:20251026T010000
END:STANDARD
BEGIN:DAYLIGHT
TZOFFSETFROM:+0100
TZOFFSETTO:+0200
TZNAME:CEST
DTSTART:20260329T010000
END:DAYLIGHT
BEGIN:STANDARD
TZOFFSETFROM:+0200
TZOFFSETTO:+0100
TZNAME:CET
DTSTART:20261025T010000
END:STANDARD
BEGIN:DAYLIGHT
TZOFFSETFROM:+0100
TZOFFSETTO:+0200
TZNAME:CEST
DTSTART:20270328T010000
END:DAYLIGHT
BEGIN:STANDARD
TZOFFSETFROM:+0200
TZOFFSETTO:+0100
TZNAME:CET
DTSTART:20271031T010000
END:STANDARD
END:VTIMEZONE
BEGIN:VEVENT
DTSTART;TZID=Europe/Berlin:20260320T180000
DTEND;TZID=Europe/Berlin:20260320T210000
DTSTAMP:20260423T232956
CREATED:20260301T162047Z
LAST-MODIFIED:20260315T125303Z
UID:3883-1774029600-1774040400@munichdawah.com
SUMMARY:Eid-Ul-Fitr Celebration at MDI Center 2026
DESCRIPTION:আসসালামু আলাইকুম প্রিয় ভাই ও বোনেরা\,\nশুকরিয়া মহান আল্লাহর\, যিনি আমাদেরকে রহমত\, বরকত ও মাগফিরাতের পবিত্র রমজান নসিব করেছেন। আত্মশুদ্ধির এই মাস শেষে আমরা সবাই মিলে *ঈদুল ফিতর* উদযাপন করবো\, ইনশাআল্লাহ।\nহাদিসে রাসূল (সা:) বলেছেন: রোজা ভঙ্গের দিন (ঈদুল ফিতর) এবং কুরবানির দিন (ঈদুল আযহা) মুসলমানদের জন্য উৎসবের দিন। (সুনানে আবু দাউদ)\nতাই\, প্রতি বছরের মতো এবারও এমডিআই সেন্টার আয়োজন করতে যাচ্ছে উৎসবমুখর ঈদুল ফিতর উদযাপন অনুষ্ঠান\, যেখানে থাকবে— বড়দের ঈদ উদযাপনের পাশাপাশি\, ছোটদের জন্য নান্দনিক ইসলামিক সাংস্কৃতিক অনুষ্ঠান। \n  রেজিস্ট্রেশন: \n\nরেজিস্ট্রেশন ফরমটি সম্পূর্ণ তথ্য দিয়ে পূরণ করুন।\nআপনি সহ মোট কতজন আপনার সাথে ঈদ উদযাপনে আসছেন সেই সংখ্যা নির্ধারিত জায়গায় উল্ল্যেখ করুন।\nফর্মে প্রদত্ত অপশন থেকে আপনি এবং আপনার সাথে যারা MDI Center এ ঈদ উদযাপনে আসবেন তাদের অপশন/অপশনগুলো বাছাই করুন।\nআমাদের নির্ধারিত রেজিস্ট্রেশন ফী অনুযায়ী আপনি মোট ফী এর পরিমান দেখতে পাবেন।\nএখন ফরমটি Submit করলে আপনাকে ইমেইলের মাধ্যমে পরবর্তী করনীয় ধাপসমূহ জানানো হবে।\nইমেইলে উল্লেখিত Reference text টি পেমেন্টের সময় অবশ্যই ব্যবহার করতে হবে\nআপনার পেমেন্ট সম্পন্ন হলে আপনার রেজিস্ট্রেশন সম্পূর্ণ হবে।\n\n**ঈদ অনুষ্ঠানের প্রয়োজনীয় সামগ্রী অংশগ্রহণকারীর সংখ্যা অনুযায়ী আগেভাগেই সংগ্রহ করা হয়। এ কারণে নিবন্ধন সম্পন্ন হওয়ার পর অর্থ ফেরত দেওয়া সম্ভব নয়। বিষয়টি সদয়ভাবে বিবেচনা করে আমাদের সহযোগিতা করার জন্য আন্তরিক ধন্যবাদ।** \nরেজিস্ট্রেশন এর শেষ দিন ১৬ মার্চ ২০২৬ (আসন অবশিষ্ট থাকা সাপেক্ষে) \n যোগাযোগ: যদি কোনো সমস্যা হয় বা আরো কোনো প্রশ্ন থাকে\, তবে আমাদের সাথে যোগাযোগ করতে দ্বিধা করবেন না। আমরা আমাদের সর্বোচ্চ সহযোগিতা করবো ইনশাআল্লাহ \nতানভীর: +49 1590 1632378\nআকরাম: +49 1749 331348\nশাকির: +49 1768 7948656\ninfo@munichdawah.com \nআল্লাহ আমাদের রোজা কবুল করুন\, আমাদের ক্ষমা করুন। তাকাব্বালাল্লাহু মিন্না ওয়া মিনকুম। \nএমডিআই সেন্টারে ঈদের জামাত\n সকাল ৭:০০ \nঈদ উদযাপন ও ইসলামিক সাংস্কৃতিক অনুষ্ঠান\n সন্ধ্যা ৬:০০ \n বি:দ্র: যেহেতু ঈদুল ফিতর শাওয়াল মাসের চাঁদ দেখার উপর নির্ভরশীল\, তাই সময়সূচি পরিবর্তিত হতে পারে। \n\n\nআমাদের ধারণক্ষমতার অতিরিক্ত রেজিস্ট্রেশন হয়ে যাওয়ায় সঙ্গত কারণেই আমাদের রেজিস্ট্রেশন নির্দিষ্ট সময়ের আগেই বন্ধ করতে হচ্ছে। আমাদের ইচ্ছা থাকা সত্ত্বেও কিছু সীমাবদ্ধতার কারণে আমাদের এমন সিদ্ধান্ত নিতে হচ্ছে। সকলের এমন অংশগ্রহণ MDI এর জন্য অনেক অনুপ্রেরণা দায়ক। আশা করবো আমাদের এই সিদ্ধান্তের প্রতি আপনারা সহযোগিতা জানাবেন। আল্লাহ আমাদের আমলগুলো কবুল করুন। জাযাকাল্লাহু খইরন
URL:https://munichdawah.com/event/eid-ul-fitr-celebration-at-mdi-center-2026/
LOCATION:MDI Center\, Otto-hahn-str. 2\, Aschheim\, Bayern\, 85609\, Germany
CATEGORIES:Eid Program,Featured Event,MDI center
END:VEVENT
END:VCALENDAR